BEGIN:VCALENDAR
VERSION:2.0
PRODID:-//Aloys Odenthal Grundschule - ECPv6.15.18//NONSGML v1.0//EN
CALSCALE:GREGORIAN
METHOD:PUBLISH
X-ORIGINAL-URL:https://aloys-odenthal-grundschule.de
X-WR-CALDESC:Veranstaltungen für Aloys Odenthal Grundschule
REFRESH-INTERVAL;VALUE=DURATION:PT1H
X-Robots-Tag:noindex
X-PUBLISHED-TTL:PT1H
BEGIN:VTIMEZONE
TZID:Europe/Berlin
BEGIN:DAYLIGHT
TZOFFSETFROM:+0100
TZOFFSETTO:+0200
TZNAME:CEST
DTSTART:20240331T010000
END:DAYLIGHT
BEGIN:STANDARD
TZOFFSETFROM:+0200
TZOFFSETTO:+0100
TZNAME:CET
DTSTART:20241027T010000
END:STANDARD
BEGIN:DAYLIGHT
TZOFFSETFROM:+0100
TZOFFSETTO:+0200
TZNAME:CEST
DTSTART:20250330T010000
END:DAYLIGHT
BEGIN:STANDARD
TZOFFSETFROM:+0200
TZOFFSETTO:+0100
TZNAME:CET
DTSTART:20251026T010000
END:STANDARD
BEGIN:DAYLIGHT
TZOFFSETFROM:+0100
TZOFFSETTO:+0200
TZNAME:CEST
DTSTART:20260329T010000
END:DAYLIGHT
BEGIN:STANDARD
TZOFFSETFROM:+0200
TZOFFSETTO:+0100
TZNAME:CET
DTSTART:20261025T010000
END:STANDARD
END:VTIMEZONE
BEGIN:VEVENT
DTSTART;TZID=Europe/Berlin:20251008T080000
DTEND;TZID=Europe/Berlin:20251008T170000
DTSTAMP:20260423T153013
CREATED:20250908T114339Z
LAST-MODIFIED:20250908T114339Z
UID:9862-1759910400-1759942800@aloys-odenthal-grundschule.de
SUMMARY:Anmeldung der Schulneulinge
DESCRIPTION:11.00 – 13.00 und 15.00 – 18.00 Uhr
URL:https://aloys-odenthal-grundschule.de/termine/anmeldung-der-schulneulinge-2/
END:VEVENT
END:VCALENDAR